BEGIN:VCALENDAR
VERSION:2.0
PRODID:-//dentalblog.solventum.com//EN
CALSCALE:GREGORIAN
BEGIN:VEVENT
UID:69ecf54bf1a17@yourdomain.com
DTSTART;VALUE=DATE:20260416
DTEND;VALUE=DATE:20260417
SUMMARY:EAS 2026 Congress, Brussels – Don’t miss the freedom to choose!
LOCATION:Brussels, Belgium
DESCRIPTION:
END:VEVENT
END:VCALENDAR