BEGIN:VCALENDAR
VERSION:2.0
PRODID:-//dentalblog.solventum.com//EN
CALSCALE:GREGORIAN
BEGIN:VEVENT
UID:69e8a96e8ac3c@yourdomain.com
DTSTART;VALUE=DATE:20260610
DTEND;VALUE=DATE:20260611
SUMMARY:Restaurationen tief subgingivaler Defekte
LOCATION:Unknown Location
DESCRIPTION:
END:VEVENT
END:VCALENDAR